BEGIN:VCALENDAR
VERSION:2.0
PRODID:-//hacksw/handcal//NONSGML v1.0//EN
BEGIN:VEVENT
SUMMARY:Stage Comite : Longueur et triple saut
UID:fcef7951-48dc-4bc9-aa28-58dc4595a788
DTSTART:20260415T073000Z
DTEND:20260415T150000Z
LOCATION:Localisation Rues des roses 72450 Montfort le Gesnois
CATEGORIES:Sportif
STATUS:
DESCRIPTION:<p> Mercredi 15 avril, Fabrice Ploquin, referent
 regional du saut en longueur et du triple saut, interviendra a
 Montfort le Gesnois de 09h30 a 17h00 avec les categories U14-U16-U18.
 Les entraineurs, les assistants coachs et toutes les personnes
 interessees sont les bienvenues pour venir observer et partager avec
 Fabrice qui repondra a toutes vos questions avec grand
 plaisir.</p>
 
 <p> </p>
 
 <p>Inscriptions jusqu'au dimanche 12 avril -
 20h00 via ce formulaire : <a
 href="https://docs.google.com/forms/d/e/1FAIpQLSeTtceetM7CeuJYmfaX2IAFoZnvLq9NJzEG3xhuPDeXnxIGEA/viewform?usp=header"
 target="_blank" rel="noreferrer
 noopener">https://docs.google.com/forms/d/e/1FAIpQLSeTtceetM7CeuJYmfaX2IAFoZnvLq9NJzEG3xhuPDeXnxIGEA/viewform?usp=header</a></p>
URL;VALUE=URI:https://www.asl72.com/evenements/2026/04/15/stage-comite-longueur-et-triple-saut-2433153
END:VEVENT
END:VCALENDAR
