BEGIN:VCALENDAR
VERSION:2.0
PRODID:-//hacksw/handcal//NONSGML v1.0//EN
BEGIN:VEVENT
SUMMARY:Stage comite : Sprint Haies
UID:f3fe21b2-4a2a-48ca-bb76-502054b1f5e5
DTSTART:20260422T073000Z
DTEND:20260422T150000Z
LOCATION:Localisation route des stades 72330 Coulaines
CATEGORIES:Sportif
STATUS:
DESCRIPTION:<p> Mercredi 22 avril, Franck Sionneau,
 entraineur sarthois de l'equipe technique regionale interviendra a
 Coulaines sur le theme du Sprint/Haies de 09h30 a 17h00, pour les
 categories U14-U16-U18. Nous invitons vivement les entraineurs, les
 assistants coachs et toutes les personnes interessees pour venir
 observer les contenus de seances qui peuvent etre transversaux a
 toutes les disciplines athletiques.</p>
 
 <p> </p>
 
 <p>Inscriptions
 jusqu'au dimanche 19 avril - 20h00 via ce formulaire : <a
 href="https://docs.google.com/forms/d/e/1FAIpQLSdy8uAF2UQJ7VmQK7n7XatKksSQ-dB2_UWPH_0UUwkTna8inA/viewform?usp=header"
 target="_blank" rel="noreferrer
 noopener">https://docs.google.com/forms/d/e/1FAIpQLSdy8uAF2UQJ7VmQK7n7XatKksSQ-dB2_UWPH_0UUwkTna8inA/viewform?usp=header</a></p>
URL;VALUE=URI:https://www.asl72.com/evenements/2026/04/22/stage-comite-sprint-haies-2433154
END:VEVENT
END:VCALENDAR
