BEGIN:VCALENDAR
VERSION:2.0
PRODID:-//hacksw/handcal//NONSGML v1.0//EN
BEGIN:VEVENT
SUMMARY:Meeting de La Pommeraye
UID:9d587488-67e9-45a6-936e-55c506150c70
DTSTART:20260522T220000Z
DTEND:20260523T220000Z
LOCATION:Localisation Place Pierre de Coubertin  La Pommeraye
CATEGORIES:Sportif
STATUS:
DESCRIPTION:<p>Programme a venir</p>
URL;VALUE=URI:https://www.asl72.com/evenements/2026/05/23/meeting-de-la-pommeraye-2427321
END:VEVENT
END:VCALENDAR
