BEGIN:VCALENDAR
VERSION:2.0
PRODID:-//hacksw/handcal//NONSGML v1.0//EN
BEGIN:VEVENT
SUMMARY:Meeting des Sables d'Olonnes
UID:56aac986-990b-455a-a59d-93121a95f52e
DTSTART:20260529T220000Z
DTEND:20260530T220000Z
LOCATION:Localisation Parc des sports de la rudeliere  Sables d'olonnes
CATEGORIES:Sportif
STATUS:
DESCRIPTION:<p>Programme et informations : <a
 href="https://www.secathle.com/organisation/meeting-des-sables-d'olonne"
 target="_blank" rel="noreferrer
 noopener">https://www.secathle.com/organisation/meeting-des-sables-d'olonne</a></p>
URL;VALUE=URI:https://www.asl72.com/evenements/2026/05/30/meeting-des-sables-dolonnes-2427323
END:VEVENT
END:VCALENDAR
