BEGIN:VCALENDAR
VERSION:2.0
PRODID:-//hacksw/handcal//NONSGML v1.0//EN
BEGIN:VEVENT
SUMMARY:Meeting Entente Sevre
UID:b353f942-ccd6-4923-a5bb-235166cac160
DTSTART:20260701T160000Z
DTEND:20260701T210000Z
LOCATION:Localisation Stade Joseph Raymond 85290 Saint Laurent Sur Sevre
CATEGORIES:Sportif
STATUS:
URL;VALUE=URI:https://www.asl72.com/evenements/2026/07/01/meeting-entente-sevre-2427462
END:VEVENT
END:VCALENDAR
